BEGIN:VCALENDAR
VERSION:2.0
PRODID:-//Ivy Lodge Aberdeen - ECPv6.15.18//NONSGML v1.0//EN
CALSCALE:GREGORIAN
METHOD:PUBLISH
X-WR-CALNAME:Ivy Lodge Aberdeen
X-ORIGINAL-URL:https://www.ivylodgeaberdeen.com
X-WR-CALDESC:Events for Ivy Lodge Aberdeen
REFRESH-INTERVAL;VALUE=DURATION:PT1H
X-Robots-Tag:noindex
X-PUBLISHED-TTL:PT1H
BEGIN:VTIMEZONE
TZID:UTC
BEGIN:STANDARD
TZOFFSETFROM:+0000
TZOFFSETTO:+0000
TZNAME:UTC
DTSTART:20250101T000000
END:STANDARD
END:VTIMEZONE
BEGIN:VEVENT
DTSTART;TZID=UTC:20260424T183000
DTEND;TZID=UTC:20260424T213000
DTSTAMP:20260421T095922
CREATED:20260304T135156Z
LAST-MODIFIED:20260304T135156Z
UID:1618-1777055400-1777066200@www.ivylodgeaberdeen.com
SUMMARY:Live Music on The Terrace: Cameron Eagar
DESCRIPTION:
URL:https://www.ivylodgeaberdeen.com/event/live-music-on-the-terrace-cameron-eagar-5/
CATEGORIES:LIVE MUSIC
ATTACH;FMTTYPE=image/png:https://www.ivylodgeaberdeen.com/wp-content/uploads/2025/06/Ivy-Lodge-TV-Reel-07.05.25.png
END:VEVENT
END:VCALENDAR