BEGIN:VCALENDAR
VERSION:2.0
PRODID:-//Ivy Lodge Aberdeen - ECPv6.15.18//NONSGML v1.0//EN
CALSCALE:GREGORIAN
METHOD:PUBLISH
X-WR-CALNAME:Ivy Lodge Aberdeen
X-ORIGINAL-URL:https://www.ivylodgeaberdeen.com
X-WR-CALDESC:Events for Ivy Lodge Aberdeen
REFRESH-INTERVAL;VALUE=DURATION:PT1H
X-Robots-Tag:noindex
X-PUBLISHED-TTL:PT1H
BEGIN:VTIMEZONE
TZID:UTC
BEGIN:STANDARD
TZOFFSETFROM:+0000
TZOFFSETTO:+0000
TZNAME:UTC
DTSTART:20220101T000000
END:STANDARD
END:VTIMEZONE
BEGIN:VEVENT
DTSTART;TZID=UTC:20231231T190000
DTEND;TZID=UTC:20240101T020000
DTSTAMP:20260421T133018
CREATED:20231128T152801Z
LAST-MODIFIED:20231128T152801Z
UID:840-1704049200-1704074400@www.ivylodgeaberdeen.com
SUMMARY:NEW YEAR HOEDOWN
DESCRIPTION:
URL:https://www.ivylodgeaberdeen.com/event/new-year-hoedown/
LOCATION:The Ivy Lodge\, 62-64 Shiprow\, Aberdeen\, Aberdeen\, AB11 5BY\, United Kingdom
ATTACH;FMTTYPE=image/png:https://www.ivylodgeaberdeen.com/wp-content/uploads/2023/11/Ivy-Lodge-New-Years-Eve-Hoedown-2023-1920-x-1080-px.png
ORGANIZER;CN="The Ivy Lodge":MAILTO:hello@ivylodgeaberdeen.com
END:VEVENT
BEGIN:VEVENT
DTSTART;TZID=UTC:20240310T130000
DTEND;TZID=UTC:20240310T170000
DTSTAMP:20260421T133018
CREATED:20240222T125226Z
LAST-MODIFIED:20240222T125226Z
UID:888-1710075600-1710090000@www.ivylodgeaberdeen.com
SUMMARY:Mamma Mia Boozy Brunch - a Mother's Day Celebration
DESCRIPTION:
URL:https://www.ivylodgeaberdeen.com/event/mamma-mia-boozy-brunch/
LOCATION:The Ivy Lodge\, 62-64 Shiprow\, Aberdeen\, Aberdeen\, AB11 5BY\, United Kingdom
CATEGORIES:BOOZY BRUNCH
ATTACH;FMTTYPE=image/png:https://www.ivylodgeaberdeen.com/wp-content/uploads/2024/02/a4-double-IVY-Mothers-Day-Poster-3.png
END:VEVENT
BEGIN:VEVENT
DTSTART;TZID=UTC:20240505T120000
DTEND;TZID=UTC:20240505T120000
DTSTAMP:20260421T133018
CREATED:20240222T125521Z
LAST-MODIFIED:20240222T125521Z
UID:891-1714910400-1714910400@www.ivylodgeaberdeen.com
SUMMARY:MAY DAY 2024
DESCRIPTION:
URL:https://www.ivylodgeaberdeen.com/event/may-day-2024/
LOCATION:The Ivy Lodge\, 62-64 Shiprow\, Aberdeen\, Aberdeen\, AB11 5BY\, United Kingdom
CATEGORIES:LIVE DJ PARTY
ATTACH;FMTTYPE=image/png:https://www.ivylodgeaberdeen.com/wp-content/uploads/2024/02/IVY-LODGE-CLOSED-ANNOUNCEMENTS-POSTS-19.png
END:VEVENT
BEGIN:VEVENT
DTSTART;TZID=UTC:20240628T210000
DTEND;TZID=UTC:20240629T010000
DTSTAMP:20260421T133018
CREATED:20230201T115321Z
LAST-MODIFIED:20240626T100959Z
UID:639-1719608400-1719622800@www.ivylodgeaberdeen.com
SUMMARY:Friday Night Party with Dave Milne
DESCRIPTION:
URL:https://www.ivylodgeaberdeen.com/event/friday-night-party-with-dj-alin-x-2/
LOCATION:The Ivy Lodge\, 62-64 Shiprow\, Aberdeen\, Aberdeen\, AB11 5BY\, United Kingdom
ATTACH;FMTTYPE=image/png:https://www.ivylodgeaberdeen.com/wp-content/uploads/2023/11/Ivy-Lodge-Cover-13.png
ORGANIZER;CN="The Ivy Lodge":MAILTO:hello@ivylodgeaberdeen.com
END:VEVENT
BEGIN:VEVENT
DTSTART;TZID=UTC:20240629T120000
DTEND;TZID=UTC:20240629T170000
DTSTAMP:20260421T133018
CREATED:20240626T102046Z
LAST-MODIFIED:20240626T102113Z
UID:952-1719662400-1719680400@www.ivylodgeaberdeen.com
SUMMARY:Hendrick's x Corner Tree Afternoon Tea
DESCRIPTION:Join us at The Ivy Lodge Terrace for a cheeky summer Afternoon Tea Party!\nWe’ve teamed up with the afternoon-tea extraordinaires at @ctreecafe and the gin heroes at Hendrick’s Gin to bring you a summertime special \nAfternoon Tea + Cocktails = the perfect summer Afternoon  For £38pp\, enjoy delicious food and two amazing cocktails!   | minimum booking x2\nAvailable the last weekend of June\, July & August / served between 12pm – 5pm\nAvailable Dates:  Saturday 29 June | Sunday 30 June  Saturday 27 July | Sunday 28 July Saturday 31 August | Sunday 01 September\nPre booking essential. For the full information\, menu and booking\, check out our event on Skiddle.com!
URL:https://www.ivylodgeaberdeen.com/event/hendricks-x-corner-tree-afternoon-tea/
ATTACH;FMTTYPE=image/jpeg:https://www.ivylodgeaberdeen.com/wp-content/uploads/2024/06/448697255_1260971211942390_5181214708204636543_n.jpg
END:VEVENT
BEGIN:VEVENT
DTSTART;TZID=UTC:20240630T120000
DTEND;TZID=UTC:20240630T170000
DTSTAMP:20260421T133018
CREATED:20240626T102523Z
LAST-MODIFIED:20240626T102523Z
UID:955-1719748800-1719766800@www.ivylodgeaberdeen.com
SUMMARY:Hendrick’s x Corner Tree Afternoon Tea
DESCRIPTION:Join us at The Ivy Lodge Terrace for a cheeky summer Afternoon Tea Party!\nWe’ve teamed up with the afternoon-tea extraordinaires at @ctreecafe and the gin heroes at Hendrick’s Gin to bring you a summertime special \nAfternoon Tea + Cocktails = the perfect summer Afternoon  For £38pp\, enjoy delicious food and two amazing cocktails!   | minimum booking x2\nAvailable the last weekend of June\, July & August / served between 12pm – 5pm\nAvailable Dates:  Saturday 29 June | Sunday 30 June  Saturday 27 July | Sunday 28 July Saturday 31 August | Sunday 01 September\nPre booking essential. For the full information\, menu and booking\, check out our event on Skiddle.com!
URL:https://www.ivylodgeaberdeen.com/event/hendricks-x-corner-tree-afternoon-tea-2/
ATTACH;FMTTYPE=image/jpeg:https://www.ivylodgeaberdeen.com/wp-content/uploads/2024/06/448697255_1260971211942390_5181214708204636543_n.jpg
END:VEVENT
BEGIN:VEVENT
DTSTART;TZID=UTC:20240704T200000
DTEND;TZID=UTC:20240704T230000
DTSTAMP:20260421T133018
CREATED:20240701T121718Z
LAST-MODIFIED:20240701T121718Z
UID:968-1720123200-1720134000@www.ivylodgeaberdeen.com
SUMMARY:OPEN MIC NIGHT with Jim Rodden
DESCRIPTION:Buzzing to announce our new OPEN MIC NIGHTS with the fantastic host Jim Rodden! \nJoin us every Thursday from 8pm in our upstairs bar for an evening of amazing tunes and great vibes. Everyone is welcome to join in\, so bring your guitars and beautiful voices. Let’s make music together at Ivy Lodge!
URL:https://www.ivylodgeaberdeen.com/event/open-mic-night-with-jim-rodden/
END:VEVENT
BEGIN:VEVENT
DTSTART;TZID=UTC:20240711T200000
DTEND;TZID=UTC:20240711T220000
DTSTAMP:20260421T133018
CREATED:20240710T090110Z
LAST-MODIFIED:20240710T090110Z
UID:974-1720728000-1720735200@www.ivylodgeaberdeen.com
SUMMARY:Open Mic Night with Jim Rodden
DESCRIPTION:OPEN MIC NIGHTS with the fantastic host Jim Rodden! \nJoin us every Thursday from 8pm in our upstairs bar for an evening of amazing tunes and great vibes. Everyone is welcome to join in\, so bring your guitars and beautiful voices. Let’s make music together at Ivy Lodge!
URL:https://www.ivylodgeaberdeen.com/event/open-mic-night-with-jim-rodden-2/
ATTACH;FMTTYPE=image/png:https://www.ivylodgeaberdeen.com/wp-content/uploads/2024/07/Ivy-Lodge-Afternoon-Tea-Corner-Tree-with-price-Facebook-Cover-4.png
END:VEVENT
BEGIN:VEVENT
DTSTART;TZID=UTC:20240718T200000
DTEND;TZID=UTC:20240718T220000
DTSTAMP:20260421T133018
CREATED:20240710T090157Z
LAST-MODIFIED:20240710T090157Z
UID:976-1721332800-1721340000@www.ivylodgeaberdeen.com
SUMMARY:Open Mic Night with Jim Rodden
DESCRIPTION:OPEN MIC NIGHTS with the fantastic host Jim Rodden! \n\nJoin us every Thursday from 8pm in our upstairs bar for an evening of amazing tunes and great vibes. Everyone is welcome to join in\, so bring your guitars and beautiful voices. Let’s make music together at Ivy Lodge!
URL:https://www.ivylodgeaberdeen.com/event/open-mic-night-with-jim-rodden-3/
ATTACH;FMTTYPE=image/png:https://www.ivylodgeaberdeen.com/wp-content/uploads/2024/07/Ivy-Lodge-Afternoon-Tea-Corner-Tree-with-price-Facebook-Cover-4.png
END:VEVENT
BEGIN:VEVENT
DTSTART;TZID=UTC:20240719T120000
DTEND;TZID=UTC:20240721T210000
DTSTAMP:20260421T133018
CREATED:20240710T090625Z
LAST-MODIFIED:20240710T090625Z
UID:982-1721390400-1721595600@www.ivylodgeaberdeen.com
SUMMARY:ABERDEEN FRINGE FESTIVAL 2024
DESCRIPTION:Aberdeen Fringe Festival is BACK. \nAfter a simply incredible start in 2023 aberdeen sees the fringe return celebrating entertainers\, artists\, musicians\, performers etc from all over the northeast of Scotland\, and welcomes entertainers from all over the world. \nWe’re doing the same again\, asking you to purchase a band that allows you entry to see the shows\, but this time we are breaking it down to daily access as well as adding a free child ticket so we can plan how many kids shows to put on. \nWe’re also upping the amount of venues we have available and the amount of entertainment. 2024 will see bands make their entry to the festival\, along with DJs\, theatre performances\, more comedy\, more art much much much more. \nWe expect to see well over 150 shows over the 3 days\, as we’ve added friday evening in also. Thats a lot more for your band. We can’t wait to welcome you all again to what will be an amazing celebration of what we have on our doorstep as well as bringing entertainers from around the globe to our small part of the world. \nOnce you’ve purchased a band you collect it on the day from our onsite box office. This allows you to travel around the venues at your leisure catching shows when ever you like\, but remember when a show is full its full. So planning what show you want to see might be essential. We have the addition of a grand ballroom that can seat upwards of 500 people this year meaning even the big shows can be well attended and people won’t miss out. \nChildren’s shows will run from noon til 4pm. Meaning there will plenty for the wee ones to see before it perhaps becomes a bit more manic. Children are deemed as 0 – 12. There is a ticket price for over 12s which is reduced but these children must be accompanied by an adult. \nYou have so much to see\, so much to do. You simply can not miss out on this incredible experience right here in our own city. \n75% of all money generated will be divided equally between the slot times ensuring each performer receives the same as the others. Its fair and we love that we can give back to the artists that make our fringe a special one. \nRefunds are available 3 months before commencement of the fringe\, after which refunds will no longer be available but there will be plenty opportunity to resale your ticket as is industry standards.
URL:https://www.ivylodgeaberdeen.com/event/aberdeen-fringe-festival-2024/
ATTACH;FMTTYPE=image/jpeg:https://www.ivylodgeaberdeen.com/wp-content/uploads/2024/07/450100195_18070495807533676_7518427008815690272_n-2.jpg
END:VEVENT
BEGIN:VEVENT
DTSTART;TZID=UTC:20240724T200000
DTEND;TZID=UTC:20240724T220000
DTSTAMP:20260421T133018
CREATED:20230126T102014Z
LAST-MODIFIED:20240626T101822Z
UID:565-1721851200-1721858400@www.ivylodgeaberdeen.com
SUMMARY:Wednesday Quiz Night
DESCRIPTION:
URL:https://www.ivylodgeaberdeen.com/event/wednesday-quiz-night/
LOCATION:The Ivy Lodge\, 62-64 Shiprow\, Aberdeen\, Aberdeen\, AB11 5BY\, United Kingdom
CATEGORIES:QUIZ NIGHT
ATTACH;FMTTYPE=image/png:https://www.ivylodgeaberdeen.com/wp-content/uploads/2023/05/Ivy-Lodge-Cover-14.png
ORGANIZER;CN="The Ivy Lodge":MAILTO:hello@ivylodgeaberdeen.com
END:VEVENT
BEGIN:VEVENT
DTSTART;TZID=UTC:20240725T200000
DTEND;TZID=UTC:20240725T220000
DTSTAMP:20260421T133018
CREATED:20240710T090246Z
LAST-MODIFIED:20240710T090246Z
UID:978-1721937600-1721944800@www.ivylodgeaberdeen.com
SUMMARY:Open Mic Night with Jim Rodden
DESCRIPTION:OPEN MIC NIGHTS with the fantastic host Jim Rodden! \n\nJoin us every Thursday from 8pm in our upstairs bar for an evening of amazing tunes and great vibes. Everyone is welcome to join in\, so bring your guitars and beautiful voices. Let’s make music together at Ivy Lodge!
URL:https://www.ivylodgeaberdeen.com/event/open-mic-night-with-jim-rodden-4/
ATTACH;FMTTYPE=image/png:https://www.ivylodgeaberdeen.com/wp-content/uploads/2024/07/Ivy-Lodge-Afternoon-Tea-Corner-Tree-with-price-Facebook-Cover-4.png
END:VEVENT
BEGIN:VEVENT
DTSTART;TZID=UTC:20240725T200000
DTEND;TZID=UTC:20240725T220000
DTSTAMP:20260421T133018
CREATED:20240710T090352Z
LAST-MODIFIED:20240710T090352Z
UID:980-1721937600-1721944800@www.ivylodgeaberdeen.com
SUMMARY:Open Mic Night with Jim Rodden
DESCRIPTION:OPEN MIC NIGHTS with the fantastic host Jim Rodden! \n\nJoin us every Thursday from 8pm in our upstairs bar for an evening of amazing tunes and great vibes. Everyone is welcome to join in\, so bring your guitars and beautiful voices. Let’s make music together at Ivy Lodge!
URL:https://www.ivylodgeaberdeen.com/event/open-mic-night-with-jim-rodden-5/
ATTACH;FMTTYPE=image/png:https://www.ivylodgeaberdeen.com/wp-content/uploads/2024/07/Ivy-Lodge-Afternoon-Tea-Corner-Tree-with-price-Facebook-Cover-4.png
END:VEVENT
BEGIN:VEVENT
DTSTART;TZID=UTC:20240727T120000
DTEND;TZID=UTC:20240727T170000
DTSTAMP:20260421T133018
CREATED:20240626T102636Z
LAST-MODIFIED:20240626T102636Z
UID:957-1722081600-1722099600@www.ivylodgeaberdeen.com
SUMMARY:Hendrick’s x Corner Tree Afternoon Tea
DESCRIPTION:Join us at The Ivy Lodge Terrace for a cheeky summer Afternoon Tea Party!\nWe’ve teamed up with the afternoon-tea extraordinaires at @ctreecafe and the gin heroes at Hendrick’s Gin to bring you a summertime special \nAfternoon Tea + Cocktails = the perfect summer Afternoon  For £38pp\, enjoy delicious food and two amazing cocktails!   | minimum booking x2\nAvailable the last weekend of June\, July & August / served between 12pm – 5pm\nAvailable Dates:  Saturday 29 June | Sunday 30 June  Saturday 27 July | Sunday 28 July Saturday 31 August | Sunday 01 September\nPre booking essential. For the full information\, menu and booking\, check out our event on Skiddle.com!
URL:https://www.ivylodgeaberdeen.com/event/hendricks-x-corner-tree-afternoon-tea-3/
ATTACH;FMTTYPE=image/jpeg:https://www.ivylodgeaberdeen.com/wp-content/uploads/2024/06/448697255_1260971211942390_5181214708204636543_n.jpg
END:VEVENT
BEGIN:VEVENT
DTSTART;TZID=UTC:20240728T120000
DTEND;TZID=UTC:20240728T170000
DTSTAMP:20260421T133018
CREATED:20240626T102711Z
LAST-MODIFIED:20240626T102711Z
UID:959-1722168000-1722186000@www.ivylodgeaberdeen.com
SUMMARY:Hendrick’s x Corner Tree Afternoon Tea
DESCRIPTION:Join us at The Ivy Lodge Terrace for a cheeky summer Afternoon Tea Party!\nWe’ve teamed up with the afternoon-tea extraordinaires at @ctreecafe and the gin heroes at Hendrick’s Gin to bring you a summertime special \nAfternoon Tea + Cocktails = the perfect summer Afternoon  For £38pp\, enjoy delicious food and two amazing cocktails!   | minimum booking x2\nAvailable the last weekend of June\, July & August / served between 12pm – 5pm\nAvailable Dates:  Saturday 29 June | Sunday 30 June  Saturday 27 July | Sunday 28 July Saturday 31 August | Sunday 01 September\nPre booking essential. For the full information\, menu and booking\, check out our event on Skiddle.com!
URL:https://www.ivylodgeaberdeen.com/event/hendricks-x-corner-tree-afternoon-tea-4/
ATTACH;FMTTYPE=image/jpeg:https://www.ivylodgeaberdeen.com/wp-content/uploads/2024/06/448697255_1260971211942390_5181214708204636543_n.jpg
END:VEVENT
BEGIN:VEVENT
DTSTART;TZID=UTC:20240731T200000
DTEND;TZID=UTC:20240731T220000
DTSTAMP:20260421T133018
CREATED:20240724T142341Z
LAST-MODIFIED:20240724T142341Z
UID:1028-1722456000-1722463200@www.ivylodgeaberdeen.com
SUMMARY:Wednesday Quiz Night
DESCRIPTION:
URL:https://www.ivylodgeaberdeen.com/event/wednesday-quiz-night-6/
ATTACH;FMTTYPE=image/png:https://www.ivylodgeaberdeen.com/wp-content/uploads/2023/05/Ivy-Lodge-Cover-14.png
END:VEVENT
BEGIN:VEVENT
DTSTART;TZID=UTC:20240801T200000
DTEND;TZID=UTC:20240801T230000
DTSTAMP:20260421T133018
CREATED:20240724T141756Z
LAST-MODIFIED:20240724T141756Z
UID:1018-1722542400-1722553200@www.ivylodgeaberdeen.com
SUMMARY:Open Mic Night with Jim Rodden
DESCRIPTION:OPEN MIC NIGHTS with the fantastic host Jim Rodden! Join us every Thursday from 8pm in our upstairs bar for an evening of amazing tunes and great vibes. Everyone is welcome to join in\, so bring your guitars and beautiful voices. Let’s make music together at Ivy Lodge!
URL:https://www.ivylodgeaberdeen.com/event/open-mic-night-with-jim-rodden-6/
ATTACH;FMTTYPE=image/png:https://www.ivylodgeaberdeen.com/wp-content/uploads/2024/07/cropped-Ivy-Lodge-Afternoon-Tea-Corner-Tree-with-price-Facebook-Cover-4.png
END:VEVENT
BEGIN:VEVENT
DTSTART;TZID=UTC:20240804T130000
DTEND;TZID=UTC:20240804T160000
DTSTAMP:20260421T133018
CREATED:20240626T103126Z
LAST-MODIFIED:20240626T103126Z
UID:965-1722776400-1722787200@www.ivylodgeaberdeen.com
SUMMARY:Taylor Swift Sip & Paint Workshop
DESCRIPTION:Taylor Swift themed Sip & Paint Event!!Come along and paint with your fellow Swifties whilst singing along to Taylor’s hits! \n SUNDAY 04 AUGUST | 1PM – 4PM  @ivylodgeaberdeen\nHas it been a cruel summer and you missed out on the Edinburgh shows or do you want to relive your wildest dreams of the Era’s tour? \n We are hosting our very own Taylor themed Sip and Paint event with @rzsipandpaint in our upstairs bar area.\n You will start off with your own blank space and show us your fearless creations!\nEnjoy our Taylor themed cocktails whilst listening to all of your favourite Taylor Songs.\n Dress up as your favourite Era is encouraged and exchange your friendship bracelets with your fellow Swifties!\nBOOK NOW ON SKIDDLE.COM
URL:https://www.ivylodgeaberdeen.com/event/taylor-swift-sip-paint-workshop/
ATTACH;FMTTYPE=image/jpeg:https://www.ivylodgeaberdeen.com/wp-content/uploads/2024/06/448702248_1260961868609991_6410068051169993771_n.jpg
END:VEVENT
BEGIN:VEVENT
DTSTART;TZID=UTC:20240807T200000
DTEND;TZID=UTC:20240807T220000
DTSTAMP:20260421T133018
CREATED:20240724T142434Z
LAST-MODIFIED:20240724T142615Z
UID:1030-1723060800-1723068000@www.ivylodgeaberdeen.com
SUMMARY:Wednesday Quiz Night
DESCRIPTION:
URL:https://www.ivylodgeaberdeen.com/event/wednesday-quiz-night-7/
ATTACH;FMTTYPE=image/png:https://www.ivylodgeaberdeen.com/wp-content/uploads/2023/05/Ivy-Lodge-Cover-14.png
END:VEVENT
BEGIN:VEVENT
DTSTART;TZID=UTC:20240808T200000
DTEND;TZID=UTC:20240808T230000
DTSTAMP:20260421T133018
CREATED:20240724T141843Z
LAST-MODIFIED:20240724T141848Z
UID:1020-1723147200-1723158000@www.ivylodgeaberdeen.com
SUMMARY:Open Mic Night with Jim Rodden
DESCRIPTION:OPEN MIC NIGHTS with the fantastic host Jim Rodden! Join us every Thursday from 8pm in our upstairs bar for an evening of amazing tunes and great vibes. Everyone is welcome to join in\, so bring your guitars and beautiful voices. Let’s make music together at Ivy Lodge!
URL:https://www.ivylodgeaberdeen.com/event/open-mic-night-with-jim-rodden-7/
ATTACH;FMTTYPE=image/png:https://www.ivylodgeaberdeen.com/wp-content/uploads/2024/07/cropped-Ivy-Lodge-Afternoon-Tea-Corner-Tree-with-price-Facebook-Cover-4.png
END:VEVENT
BEGIN:VEVENT
DTSTART;TZID=UTC:20240814T200000
DTEND;TZID=UTC:20240814T220000
DTSTAMP:20260421T133018
CREATED:20240724T142730Z
LAST-MODIFIED:20240724T142730Z
UID:1033-1723665600-1723672800@www.ivylodgeaberdeen.com
SUMMARY:Wednesday Quiz Night
DESCRIPTION:
URL:https://www.ivylodgeaberdeen.com/event/wednesday-quiz-night-8/
ATTACH;FMTTYPE=image/png:https://www.ivylodgeaberdeen.com/wp-content/uploads/2023/05/Ivy-Lodge-Cover-14.png
END:VEVENT
BEGIN:VEVENT
DTSTART;TZID=UTC:20240815T200000
DTEND;TZID=UTC:20240815T230000
DTSTAMP:20260421T133018
CREATED:20240724T142002Z
LAST-MODIFIED:20240724T142002Z
UID:1022-1723752000-1723762800@www.ivylodgeaberdeen.com
SUMMARY:Open Mic Night with Jim Rodden
DESCRIPTION:OPEN MIC NIGHTS with the fantastic host Jim Rodden! Join us every Thursday from 8pm in our upstairs bar for an evening of amazing tunes and great vibes. Everyone is welcome to join in\, so bring your guitars and beautiful voices. Let’s make music together at Ivy Lodge!
URL:https://www.ivylodgeaberdeen.com/event/open-mic-night-with-jim-rodden-8/
ATTACH;FMTTYPE=image/png:https://www.ivylodgeaberdeen.com/wp-content/uploads/2024/07/cropped-Ivy-Lodge-Afternoon-Tea-Corner-Tree-with-price-Facebook-Cover-4.png
END:VEVENT
BEGIN:VEVENT
DTSTART;TZID=UTC:20240822T200000
DTEND;TZID=UTC:20240822T230000
DTSTAMP:20260421T133018
CREATED:20240724T142106Z
LAST-MODIFIED:20240724T142106Z
UID:1024-1724356800-1724367600@www.ivylodgeaberdeen.com
SUMMARY:Open Mic Night with Jim Rodden
DESCRIPTION:OPEN MIC NIGHTS with the fantastic host Jim Rodden! Join us every Thursday from 8pm in our upstairs bar for an evening of amazing tunes and great vibes. Everyone is welcome to join in\, so bring your guitars and beautiful voices. Let’s make music together at Ivy Lodge!
URL:https://www.ivylodgeaberdeen.com/event/open-mic-night-with-jim-rodden-9/
ATTACH;FMTTYPE=image/png:https://www.ivylodgeaberdeen.com/wp-content/uploads/2024/07/cropped-Ivy-Lodge-Afternoon-Tea-Corner-Tree-with-price-Facebook-Cover-4.png
END:VEVENT
BEGIN:VEVENT
DTSTART;TZID=UTC:20240829T200000
DTEND;TZID=UTC:20240829T230000
DTSTAMP:20260421T133018
CREATED:20240724T142215Z
LAST-MODIFIED:20240724T142215Z
UID:1026-1724961600-1724972400@www.ivylodgeaberdeen.com
SUMMARY:Open Mic Night with Jim Rodden
DESCRIPTION:OPEN MIC NIGHTS with the fantastic host Jim Rodden! Join us every Thursday from 8pm in our upstairs bar for an evening of amazing tunes and great vibes. Everyone is welcome to join in\, so bring your guitars and beautiful voices. Let’s make music together at Ivy Lodge!
URL:https://www.ivylodgeaberdeen.com/event/open-mic-night-with-jim-rodden-10/
ATTACH;FMTTYPE=image/png:https://www.ivylodgeaberdeen.com/wp-content/uploads/2024/07/cropped-Ivy-Lodge-Afternoon-Tea-Corner-Tree-with-price-Facebook-Cover-4.png
END:VEVENT
BEGIN:VEVENT
DTSTART;TZID=UTC:20240831T120000
DTEND;TZID=UTC:20240831T170000
DTSTAMP:20260421T133018
CREATED:20240626T102822Z
LAST-MODIFIED:20240626T102822Z
UID:961-1725105600-1725123600@www.ivylodgeaberdeen.com
SUMMARY:Hendrick’s x Corner Tree Afternoon Tea
DESCRIPTION:Join us at The Ivy Lodge Terrace for a cheeky summer Afternoon Tea Party!\nWe’ve teamed up with the afternoon-tea extraordinaires at @ctreecafe and the gin heroes at Hendrick’s Gin to bring you a summertime special \nAfternoon Tea + Cocktails = the perfect summer Afternoon  For £38pp\, enjoy delicious food and two amazing cocktails!   | minimum booking x2\nAvailable the last weekend of June\, July & August / served between 12pm – 5pm\nAvailable Dates:  Saturday 29 June | Sunday 30 June  Saturday 27 July | Sunday 28 July Saturday 31 August | Sunday 01 September\nPre booking essential. For the full information\, menu and booking\, check out our event on Skiddle.com!
URL:https://www.ivylodgeaberdeen.com/event/hendricks-x-corner-tree-afternoon-tea-5/
ATTACH;FMTTYPE=image/jpeg:https://www.ivylodgeaberdeen.com/wp-content/uploads/2024/06/448697255_1260971211942390_5181214708204636543_n.jpg
END:VEVENT
BEGIN:VEVENT
DTSTART;TZID=UTC:20240901T120000
DTEND;TZID=UTC:20240901T170000
DTSTAMP:20260421T133018
CREATED:20240626T102901Z
LAST-MODIFIED:20240626T102901Z
UID:963-1725192000-1725210000@www.ivylodgeaberdeen.com
SUMMARY:Hendrick’s x Corner Tree Afternoon Tea
DESCRIPTION:Join us at The Ivy Lodge Terrace for a cheeky summer Afternoon Tea Party!\nWe’ve teamed up with the afternoon-tea extraordinaires at @ctreecafe and the gin heroes at Hendrick’s Gin to bring you a summertime special \nAfternoon Tea + Cocktails = the perfect summer Afternoon  For £38pp\, enjoy delicious food and two amazing cocktails!   | minimum booking x2\nAvailable the last weekend of June\, July & August / served between 12pm – 5pm\nAvailable Dates:  Saturday 29 June | Sunday 30 June  Saturday 27 July | Sunday 28 July Saturday 31 August | Sunday 01 September\nPre booking essential. For the full information\, menu and booking\, check out our event on Skiddle.com!
URL:https://www.ivylodgeaberdeen.com/event/hendricks-x-corner-tree-afternoon-tea-6/
ATTACH;FMTTYPE=image/jpeg:https://www.ivylodgeaberdeen.com/wp-content/uploads/2024/06/448697255_1260971211942390_5181214708204636543_n.jpg
END:VEVENT
BEGIN:VEVENT
DTSTART;TZID=UTC:20240905T200000
DTEND;TZID=UTC:20240905T220000
DTSTAMP:20260421T133018
CREATED:20240904T133758Z
LAST-MODIFIED:20240904T133758Z
UID:1076-1725566400-1725573600@www.ivylodgeaberdeen.com
SUMMARY:Open Mic Night with Jim Rodden
DESCRIPTION:Sponsored by Havana Club
URL:https://www.ivylodgeaberdeen.com/event/open-mic-night-with-jim-rodden-11/
CATEGORIES:OPEN MIC NIGHT
ATTACH;FMTTYPE=image/png:https://www.ivylodgeaberdeen.com/wp-content/uploads/2024/09/cropped-Ivy-Lodge-Afternoon-Tea-Corner-Tree-with-price-Facebook-Cover-7.png
END:VEVENT
BEGIN:VEVENT
DTSTART;TZID=UTC:20240907T200000
DTEND;TZID=UTC:20240908T010000
DTSTAMP:20260421T133018
CREATED:20231128T154603Z
LAST-MODIFIED:20240905T075628Z
UID:847-1725739200-1725757200@www.ivylodgeaberdeen.com
SUMMARY:Saturday Night with Dave Milne
DESCRIPTION:
URL:https://www.ivylodgeaberdeen.com/event/saturday-night-with-dave-milne/
CATEGORIES:LIVE DJ PARTY
ATTACH;FMTTYPE=image/png:https://www.ivylodgeaberdeen.com/wp-content/uploads/2023/11/Ivy-Lodge-Cover-13.png
END:VEVENT
BEGIN:VEVENT
DTSTART;TZID=UTC:20240911T200000
DTEND;TZID=UTC:20240911T220000
DTSTAMP:20260421T133018
CREATED:20240724T142946Z
LAST-MODIFIED:20240905T080117Z
UID:1039-1726084800-1726092000@www.ivylodgeaberdeen.com
SUMMARY:Wednesday Quiz Night with Grace
DESCRIPTION:
URL:https://www.ivylodgeaberdeen.com/event/wednesday-quiz-night-11/
ATTACH;FMTTYPE=image/png:https://www.ivylodgeaberdeen.com/wp-content/uploads/2023/05/Ivy-Lodge-Cover-14.png
END:VEVENT
BEGIN:VEVENT
DTSTART;TZID=UTC:20240912T200000
DTEND;TZID=UTC:20240912T220000
DTSTAMP:20260421T133018
CREATED:20240904T133837Z
LAST-MODIFIED:20240904T133850Z
UID:1078-1726171200-1726178400@www.ivylodgeaberdeen.com
SUMMARY:Open Mic Night with Jim Rodden
DESCRIPTION:Sponsored by Havana Club
URL:https://www.ivylodgeaberdeen.com/event/open-mic-night-with-jim-rodden-12/
ATTACH;FMTTYPE=image/png:https://www.ivylodgeaberdeen.com/wp-content/uploads/2024/09/cropped-Ivy-Lodge-Afternoon-Tea-Corner-Tree-with-price-Facebook-Cover-7.png
END:VEVENT
END:VCALENDAR